BEGIN:VCALENDAR
VERSION:2.0
PRODID:-//pretalx//cfp.pacifichackers.com//QRWHYC
BEGIN:VEVENT
UID:pretalx-hackthebay-2026-QRWHYC@cfp.pacifichackers.com
DTSTART:20260323T160000Z
DTEND:20260323T171500Z
DESCRIPTION:There are so many techniques\, methods\, focus areas in the hac
 king world which makes it overwhelming to begin. I would want to pause wit
 h all my research\, pentesting\, hacking\, exploiting\, writing ai to repl
 ace me.. and take an hour or two and guide you from the beginning.\n\ntack
 ling 10 different areas I played with over the years\, how to start\, how 
 to dive deep and how to think like a hacker. This presentation will be tec
 hnical but built for anyone who wants to join this amazing world. We will 
 learn web\, mobile\, iot\, browsers\, and more.. how to leverage code anal
 ysis and anything that can help you cheat your way into the exploit \nFoll
 owing the talk we will have a collaborative workshop practicing these meth
 ods \n\nLet’s have fun!!
DTSTAMP:20260422T181054Z
LOCATION:WORKSHOPS
SUMMARY:Let’s hack from the beginning - Rotem Bar
URL:https://cfp.pacifichackers.com/hackthebay-2026/talk/QRWHYC/
END:VEVENT
END:VCALENDAR
