BEGIN:VCALENDAR
VERSION:2.0
PRODID:-//pretalx//cfp.pacifichackers.com//QQRLTF
BEGIN:VEVENT
UID:pretalx-hackthebay-2026-QQRLTF@cfp.pacifichackers.com
DTSTART:20260323T160000Z
DTEND:20260323T164500Z
DESCRIPTION:This hands-on workshop dives into real-world AWS misconfigurati
 ons that attackers actively\nexploit to gain privilege escalation and acce
 ss sensitive data. You’ll step into the shoes of an\nadversary and learn
  how common oversights like loose IAM roles\, misconfigured Cognito\nident
 ity pools\, or exposed metadata endpoints can be chained into full-blown b
 reaches.
DTSTAMP:20260422T181835Z
LOCATION:TALKS
SUMMARY:Hunting Shells via Chaining Misconfigs in AWS - Sumanth\, Bhagavan 
 Bollina
URL:https://cfp.pacifichackers.com/hackthebay-2026/talk/QQRLTF/
END:VEVENT
END:VCALENDAR
