BEGIN:VCALENDAR
VERSION:2.0
PRODID:-//pretalx//cfp.pacifichackers.com//LBXQ3P
BEGIN:VEVENT
UID:pretalx-hackthebay-2026-LBXQ3P@cfp.pacifichackers.com
DTSTART:20260323T130000Z
DTEND:20260323T143000Z
DESCRIPTION:Hackers are already gearing up to exploit the next new unlicens
 ed wireless protocol – LoRa. It’s time to add LoRa-based attacks to yo
 ur red team arsenal. Learn about LoRa\, how it is used by a popular peer-t
 o-peer network called Meshtastic\, and how you can build your own LoRa-bas
 ed implant.
DTSTAMP:20260422T181846Z
LOCATION:WORKSHOPS
SUMMARY:Red teaming with LoRa and Meshtastic - Venky Raju
URL:https://cfp.pacifichackers.com/hackthebay-2026/talk/LBXQ3P/
END:VEVENT
END:VCALENDAR
