BEGIN:VCALENDAR
VERSION:2.0
PRODID:-//pretalx//cfp.pacifichackers.com//D9EHLH
BEGIN:VEVENT
UID:pretalx-hackthebay-2026-D9EHLH@cfp.pacifichackers.com
DTSTART:20260323T153000Z
DTEND:20260323T160000Z
DESCRIPTION:This talk is a follow-up to our September research on denial-of
 -service and permission escape in Claude Code. We now examine how LLM-powe
 red coding agents can be weaponized end-to-end\, including paths to remote
  code execution. Using Claude Code as a primary case study\, and extending
  to VS Code extension exploits and recent Cursor incidents\, we show how a
 gent autonomy\, extension APIs\, and execution boundaries collapse into a 
 practical RCE surface.
DTSTAMP:20260422T181542Z
LOCATION:TALKS
SUMMARY:When Agents Execute: RCE Paths in LLM-Powered Coding Tools - Manesh
  Babu
URL:https://cfp.pacifichackers.com/hackthebay-2026/talk/D9EHLH/
END:VEVENT
END:VCALENDAR
