BEGIN:VCALENDAR
VERSION:2.0
PRODID:-//pretalx//cfp.pacifichackers.com//hackthebay-2026//WYSW3X
BEGIN:VEVENT
UID:pretalx-hackthebay-2026-FX83XQ@cfp.pacifichackers.com
DTSTART:20260323T113000Z
DTEND:20260323T163000Z
DESCRIPTION:Do you want to learn how to solder? Are you afraid of thinking 
 you are going to burn yourself? Don't be scared\, we've got your back. Fam
 ous and renowned badge Maker Abhinav (Panda) Pandagale will teach you the 
 basics of soldering. You are going to have a chance to solder a badge.
DTSTAMP:20260422T165856Z
LOCATION:SOLDERING VILLAGE
SUMMARY:Soldering 101 - Abhinav Pandagale
URL:https://cfp.pacifichackers.com/hackthebay-2026/talk/FX83XQ/
END:VEVENT
END:VCALENDAR
