BEGIN:VCALENDAR
VERSION:2.0
PRODID:-//pretalx//cfp.pacifichackers.com//hackthebay-2026//WJK8XG
BEGIN:VEVENT
UID:pretalx-hackthebay-2026-PTHYVR@cfp.pacifichackers.com
DTSTART:20260323T110000Z
DTEND:20260323T113000Z
DESCRIPTION:You don't need a linear path or a specific degree to build an e
 xtraordinary career in cybersecurity. Tailored for junior professionals\, 
 career-switchers\, and veterans\, this keynote dives into the realities of
  the front lines. Ryan shares his unconventional journey—from IT adminis
 tration and law enforcement to managing massive incident response teams an
 d leading physical red teaming.\n\nKey Highlights:\n- The Art of the Masqu
 erade: Jaw-dropping stories of physical penetration testing\, including ho
 w to breach a cruise ship's bridge using open-source intel\, fake uniforms
 \, and a cup of espresso.\n- High-Stakes Incident Response: A raw look at 
 the emotional weight of managing 2 AM ransomware crises for hospitals and 
 defense contractors.\n- Actionable Advice: Discover why non-traditional ba
 ckgrounds are a superpower\, how to leverage AI tools\, and why communicat
 ion is your ultimate security control.
DTSTAMP:20260422T170340Z
LOCATION:WORKSHOPS
SUMMARY:NO BADGE REQUIRED: An Unconventional Journey Through Cybersecurity'
 s Front Lines - Ryan Massfeller @Ryan4n6
URL:https://cfp.pacifichackers.com/hackthebay-2026/talk/PTHYVR/
END:VEVENT
END:VCALENDAR
