BEGIN:VCALENDAR
VERSION:2.0
PRODID:-//pretalx//cfp.pacifichackers.com//hackthebay-2026//L8UQY3
BEGIN:VEVENT
UID:pretalx-hackthebay-2026-HPJMLP@cfp.pacifichackers.com
DTSTART:20260323T113000Z
DTEND:20260323T124000Z
DESCRIPTION:Victims see the real site\; you see everything. C.A.R.P. gives 
 each visitor an isolated Firefox container that loads the actual target UR
 L (Gmail\, banks\, SSO)\, no fake login page\, just the real site in a bro
 wser you control. Passwords\, 2FA codes\, and session cookies are all capt
 ured allowing sessions to be hijacked in real time. Combine C.A.R.P. with 
 ARP and DNS spoofing on the local network\, and victims who type real URLs
  or use bookmarks can be silently redirected into your controlled browser.
DTSTAMP:20260422T170441Z
LOCATION:WORKSHOPS
SUMMARY:Catch & Release Phramework: Credential Harvesting Without the Phish
 ing Page - David Porcello\, Rob Wright
URL:https://cfp.pacifichackers.com/hackthebay-2026/talk/HPJMLP/
END:VEVENT
END:VCALENDAR
