BEGIN:VCALENDAR
VERSION:2.0
PRODID:-//pretalx//cfp.pacifichackers.com//hackthebay-2026//8LVUTK
BEGIN:VEVENT
UID:pretalx-hackthebay-2026-HAWGXZ@cfp.pacifichackers.com
DTSTART:20260323T143000Z
DTEND:20260323T160000Z
DESCRIPTION:Analyze malware to find indicators of compromise using static a
 nd dynamic techniques. We will modify Windows executables to cheat at game
 s and examine malware's actions\, including droppers\, botnets\, and keylo
 ggers.\n\nParticipants need a computer with VMware and at least 30 GB of f
 ree storage space.\nAll workshop materials are freely available on the Web
  and will remain available after the workshop ends.
DTSTAMP:20260422T165954Z
LOCATION:WORKSHOPS
SUMMARY:Malware analysis: Learn Windows internals and how malware operates 
 - Sam Bowne
URL:https://cfp.pacifichackers.com/hackthebay-2026/talk/HAWGXZ/
END:VEVENT
END:VCALENDAR
